Workbook

Sheet Sheet1
A1: 2026年佛冈县城镇住房保障实物配租情况信息表
A2: 经我办及相关部门的审核，以下申请家庭符合我县公共租赁住房保障条件，按相关政策规定进行公示，接受相关部门、单位和广大群众监督。现将有关情况予以公示，公示期为2026年9月18日至2026年9月25日。如有异议，可向我县相关部门提出，联系电话：0763-4275035。 佛冈县住房保障工作领导小组办公室 2026年9月18日
A3: 序号 | B3: 姓名 | C3: 性别 | D3: 与申请人关系 | E3: 身份证号码 | F3: 家庭情况 | G3: 保障人口
A4: 1 | B4: 陈梓彬 | C4: =VLOOKUP(B4,[1]公租房申请名单总表!$B$2:$C$1600,2,0) -> 男 | D4: 申请人 | E4: 440582****4257 | F4: 稳定就业外来务工人员 | G4: 1
A5: 2 | B5: 易兰 | C5: =VLOOKUP(B5,[1]公租房申请名单总表!$B$2:$C$1600,2,0) -> 女 | D5: 申请人 | E5: 441824****1262 | F5: 稳定就业外来务工人员 | G5: 1
A6: 3 | B6: 雷海勇 | C6: =VLOOKUP(B6,[1]公租房申请名单总表!$B$2:$C$1600,2,0) -> 男 | D6: 申请人 | E6: 441282****6678 | F6: 稳定就业外来务工人员 | G6: 1
A7: 4 | B7: 冯卓怡 | C7: =VLOOKUP(B7,[1]公租房申请名单总表!$B$2:$C$1600,2,0) -> 女 | D7: 申请人 | E7: 441323****104X | F7: 稳定就业外来务工人员 | G7: 1
A8: 5 | B8: 邵泽辰 | C8: =VLOOKUP(B8,[1]公租房申请名单总表!$B$2:$C$1600,2,0) -> 男 | D8: 申请人 | E8: 371322****3410 | F8: 稳定就业外来务工人员 | G8: 1
A9: 6 | B9: 陈伶俐 | C9: =VLOOKUP(B9,[1]公租房申请名单总表!$B$2:$C$1600,2,0) -> 女 | D9: 申请人 | E9: 440983****8625 | F9: 稳定就业外来务工人员 | G9: =VLOOKUP(B9,[2]结果集!$D$1:$K$100,8,0) -> 1
A10: 7 | B10: 邝林偕 | C10: =VLOOKUP(B10,[1]公租房申请名单总表!$B$2:$C$1600,2,0) -> 男 | D10: 申请人 | E10: 440184****1850 | F10: 稳定就业外来务工人员 | G10: 1
A11: 8 | B11: 谭学链 | C11: =VLOOKUP(B11,[1]公租房申请名单总表!$B$2:$C$1600,2,0) -> 男 | D11: 申请人 | E11: 441881****893X | F11: 稳定就业外来务工人员 | G11: 1
A12: 9 | B12: 张海伦 | C12: =VLOOKUP(B12,[1]公租房申请名单总表!$B$2:$C$1600,2,0) -> 男 | D12: 申请人 | E12: 441821****0013 | F12: 低保家庭 | G12: 2
A13: 10 | B13: 钟玉倩 | C13: =VLOOKUP(B13,[1]公租房申请名单总表!$B$2:$C$1600,2,0) -> 女 | D13: 申请人 | E13: 441881****0240 | F13: 稳定就业外来务工人员 | G13: 1
A14: 11 | B14: 蔡诗玮 | C14: =VLOOKUP(B14,[1]公租房申请名单总表!$B$2:$C$1600,2,0) -> 女 | D14: 申请人 | E14: 441827****7740 | F14: 稳定就业外来务工人员 | G14: 1
A15: 12 | B15: 陈家豪 | C15: =VLOOKUP(B15,[1]公租房申请名单总表!$B$2:$C$1600,2,0) -> 男 | D15: 申请人 | E15: 441821****1218 | F15: 新就业无房职工 | G15: 2
A16: 13 | B16: 陈冠历 | C16: =VLOOKUP(B16,[1]公租房申请名单总表!$B$2:$C$1600,2,0) -> 男 | D16: 申请人 | E16: 441802****0014 | F16: 稳定就业外来务工人员 | G16: 1
A17: 14 | B17: 杨燕培 | C17: =VLOOKUP(B17,[1]公租房申请名单总表!$B$2:$C$1600,2,0) -> 女 | D17: 申请人 | E17: 440921****7140 | F17: 稳定就业外来务工人员 | G17: =VLOOKUP(B17,[2]结果集!$D$1:$K$100,8,0) -> 2
A18: 15 | B18: 朱培熙 | C18: =VLOOKUP(B18,[1]公租房申请名单总表!$B$2:$C$1600,2,0) -> 男 | D18: 申请人 | E18: 441322****5210 | F18: 稳定就业外来务工人员 | G18: =VLOOKUP(B18,[2]结果集!$D$1:$K$100,8,0) -> 1
A19: 16 | B19: 陈敏常 | C19: =VLOOKUP(B19,[1]公租房申请名单总表!$B$2:$C$1600,2,0) -> 男 | D19: 申请人 | E19: 441801****2039 | F19: 稳定就业外来务工人员 | G19: 1
A20: 17 | B20: 肖淑娟 | C20: =VLOOKUP(B20,[1]公租房申请名单总表!$B$2:$C$1600,2,0) -> 女 | D20: 申请人 | E20: 440184****3624 | F20: 稳定就业外来务工人员 | G20: 1
A21: 18 | B21: 钟秋红 | C21: =VLOOKUP(B21,[1]公租房申请名单总表!$B$2:$C$1600,2,0) -> 女 | D21: 申请人 | E21: 441821****002X | F21: 低收入家庭 | G21: =VLOOKUP(B21,[2]结果集!$D$1:$K$100,8,0) -> 3
A22: 19 | B22: 邱虹钧 | C22: =VLOOKUP(B22,[1]公租房申请名单总表!$B$2:$C$1600,2,0) -> 男 | D22: 申请人 | E22: 440112****005X | F22: 稳定就业外来务工人员 | G22: 1

Sheet Sheet2

Sheet Sheet3
